BEGIN:VCALENDAR
VERSION:2.0
PRODID:-//akiMusic - ECPv6.15.20//NONSGML v1.0//EN
CALSCALE:GREGORIAN
METHOD:PUBLISH
X-ORIGINAL-URL:https://akim.fun
X-WR-CALDESC:akiMusic のイベント
REFRESH-INTERVAL;VALUE=DURATION:PT1H
X-Robots-Tag:noindex
X-PUBLISHED-TTL:PT1H
BEGIN:VTIMEZONE
TZID:Asia/Tokyo
BEGIN:STANDARD
TZOFFSETFROM:+0900
TZOFFSETTO:+0900
TZNAME:JST
DTSTART:20180101T000000
END:STANDARD
END:VTIMEZONE
BEGIN:VEVENT
DTSTART;TZID=Asia/Tokyo:20190622T133000
DTEND;TZID=Asia/Tokyo:20190622T153000
DTSTAMP:20260421T221003
CREATED:20190616T023043Z
LAST-MODIFIED:20190616T023043Z
UID:7532-1561210200-1561217400@akim.fun
SUMMARY:DigiFES『同期テクニック』
DESCRIPTION:Ableton認定トレーナーとしてのセミナーです。 \nいわゆる【同期モノ】のバンドをやるときに \n\nAbleton Liveをどう活用するか\nどんなメリットがあるのか\n\nなどをAbleton認定トレーナーとして、そしてBass弾きとして解説します。 \n\n【参加無料／バンドマンの方必見】\n島村楽器デジフェス第二弾では、大宮店にて認定トレーナー @akim_is さんをお招きし、Liveを使って打ち込みをバックに生演奏を行う同期テクニックについて解説します。どなたでも参加無料！人数制限につきお早めの申し込みを：https://t.co/Vu6KDI4Vi0#Ableton #dtm pic.twitter.com/3hV2vpIFC9 \n— AbletonJP (@AbletonJP) June 12\, 2019 \n\n参加費は無料。 \n参加お申し込みは以下のリンクからお願いしますm(_ _)m \n参加を申し込む≫
URL:https://akim.fun/lives/190622-digifes/
LOCATION:島村楽器大宮店\, 大宮区宮町1-60 大宮ラクーン 6F\, さいたま市\, 埼玉県\, 330-0802\, 日本
ATTACH;FMTTYPE=image/jpeg:https://akim.fun/wp-content/uploads/2019/04/akim_arita.jpg
END:VEVENT
END:VCALENDAR